BEGIN:VCALENDAR
VERSION:2.0
PRODID:-//85.13.164.100//NONSGML kigkonsult.se iCalcreator 2.20//
CALSCALE:GREGORIAN
METHOD:PUBLISH
X-WR-TIMEZONE:Europe/Berlin
BEGIN:VEVENT
UID:event41@MUV
DTSTAMP:20260422T082612Z
CATEGORIES:Guggenmusik
DESCRIPTION:4. GamperNight der Näcker-Gamper Deisslingen\nKategorie: Guggen
 musik\nICS-Link: https://muvcom.de/index.php?option=com_jem&view=event&id=
 41:4-gampernight-der-naecker-gamper-deisslingen\n
DTSTART;TZID=Europe/Berlin:20130112T183000
DTEND;TZID=Europe/Berlin:20130112T183000
LOCATION:Festhalle Deißlingen\,Rottweilerstraße 14\,78652 Deißlingen
SUMMARY:4. GamperNight der Näcker-Gamper Deisslingen
URL:https://muvcom.de/index.php?option=com_jem&view=event&id=41:4-gampernig
 ht-der-naecker-gamper-deisslingen
END:VEVENT
END:VCALENDAR